BEGIN:VCALENDAR
VERSION:2.0
PRODID:-//taviti/caldav-go//NONSGML v1.0.0//EN
BEGIN:VEVENT
UID:407b247c-2cfb-4528-8965-1f2f83379014
DTSTAMP:20260423T150821Z
DTSTART:20260510T193000Z
DURATION:PT45M
DESCRIPTION:Practice: 15m0s\nQualify: 15m0s\nRace: 15m0s\n\n24 entrants in: A3DR Honda S800 RSC, TMM Trabant 601
LOCATION:Rio de Janeiro, Brazil
SUMMARY:Race at Rio de Janeiro - Full Circuit, Rio de Janeiro, Brazil (Smol Showdown Exhibition)
URL;VALUE=URI:http://205.209.103.2:8840/championship/7fb72df6-3d59-48ae-ad62-7c46f43a0cf2
END:VEVENT
END:VCALENDAR